BEGIN:VCALENDAR
VERSION:2.0
PRODID:-//Fort Scott Community College - ECPv6.15.18//NONSGML v1.0//EN
CALSCALE:GREGORIAN
METHOD:PUBLISH
X-ORIGINAL-URL:https://fortscott.edu
X-WR-CALDESC:Events for Fort Scott Community College
REFRESH-INTERVAL;VALUE=DURATION:PT1H
X-Robots-Tag:noindex
X-PUBLISHED-TTL:PT1H
BEGIN:VTIMEZONE
TZID:America/Chicago
BEGIN:DAYLIGHT
TZOFFSETFROM:-0600
TZOFFSETTO:-0500
TZNAME:CDT
DTSTART:20240310T080000
END:DAYLIGHT
BEGIN:STANDARD
TZOFFSETFROM:-0500
TZOFFSETTO:-0600
TZNAME:CST
DTSTART:20241103T070000
END:STANDARD
BEGIN:DAYLIGHT
TZOFFSETFROM:-0600
TZOFFSETTO:-0500
TZNAME:CDT
DTSTART:20250309T080000
END:DAYLIGHT
BEGIN:STANDARD
TZOFFSETFROM:-0500
TZOFFSETTO:-0600
TZNAME:CST
DTSTART:20251102T070000
END:STANDARD
BEGIN:DAYLIGHT
TZOFFSETFROM:-0600
TZOFFSETTO:-0500
TZNAME:CDT
DTSTART:20260308T080000
END:DAYLIGHT
BEGIN:STANDARD
TZOFFSETFROM:-0500
TZOFFSETTO:-0600
TZNAME:CST
DTSTART:20261101T070000
END:STANDARD
END:VTIMEZONE
BEGIN:VEVENT
DTSTART;TZID=America/Chicago:20251103T173000
DTEND;TZID=America/Chicago:20251103T173000
DTSTAMP:20260419T213427
CREATED:20250917T185307Z
LAST-MODIFIED:20250917T185311Z
UID:10002870-1762191000-1762191000@fortscott.edu
SUMMARY:Women's Basketball vs. Haskell JV
DESCRIPTION:
URL:https://fortscott.edu/event/womens-basketball-vs-haskell-jv/
LOCATION:Arnold Arena\, 2108 South Horton Street\, Fort Scott\, KS\, 66701\, United States
CATEGORIES:Athletics
ATTACH;FMTTYPE=image/png:https://fortscott.edu/wp-content/uploads/2025/09/Womens-Basketball.png
END:VEVENT
BEGIN:VEVENT
DTSTART;TZID=America/Chicago:20251105T173000
DTEND;TZID=America/Chicago:20251105T173000
DTSTAMP:20260419T213427
CREATED:20251103T141728Z
LAST-MODIFIED:20251103T141732Z
UID:10002916-1762363800-1762363800@fortscott.edu
SUMMARY:Women's Basketball vs. Northern Oklahoma College -Enid
DESCRIPTION:
URL:https://fortscott.edu/event/womens-basketball-vs-northern-oklahoma-college-enid/
LOCATION:Arnold Arena\, 2108 South Horton Street\, Fort Scott\, KS\, 66701\, United States
CATEGORIES:Athletics
ATTACH;FMTTYPE=image/png:https://fortscott.edu/wp-content/uploads/2025/09/Womens-Basketball.png
END:VEVENT
BEGIN:VEVENT
DTSTART;TZID=America/Chicago:20251108T130000
DTEND;TZID=America/Chicago:20251108T130000
DTSTAMP:20260419T213427
CREATED:20250917T185559Z
LAST-MODIFIED:20250917T185605Z
UID:10002871-1762606800-1762606800@fortscott.edu
SUMMARY:Women's Basketball vs. Central Methodist JV
DESCRIPTION:
URL:https://fortscott.edu/event/womens-basketball-vs-central-methodist-jv/
LOCATION:Arnold Arena\, 2108 South Horton Street\, Fort Scott\, KS\, 66701\, United States
CATEGORIES:Athletics
ATTACH;FMTTYPE=image/png:https://fortscott.edu/wp-content/uploads/2025/09/Womens-Basketball.png
END:VEVENT
BEGIN:VEVENT
DTSTART;TZID=America/Chicago:20251110T173000
DTEND;TZID=America/Chicago:20251110T173000
DTSTAMP:20260419T213427
CREATED:20250917T185806Z
LAST-MODIFIED:20250917T185811Z
UID:10002872-1762795800-1762795800@fortscott.edu
SUMMARY:Women's Basketball vs. Independence CC
DESCRIPTION:
URL:https://fortscott.edu/event/womens-basketball-vs-independence-cc/
LOCATION:Arnold Arena\, 2108 South Horton Street\, Fort Scott\, KS\, 66701\, United States
CATEGORIES:Athletics
ATTACH;FMTTYPE=image/png:https://fortscott.edu/wp-content/uploads/2025/09/Womens-Basketball.png
END:VEVENT
BEGIN:VEVENT
DTSTART;TZID=America/Chicago:20251120T173000
DTEND;TZID=America/Chicago:20251120T173000
DTSTAMP:20260419T213427
CREATED:20250917T190726Z
LAST-MODIFIED:20250917T190732Z
UID:10002875-1763659800-1763659800@fortscott.edu
SUMMARY:Women's Basketball @ Metropolitan CC
DESCRIPTION:
URL:https://fortscott.edu/event/womens-basketball-metropolitan-cc/
LOCATION:KS
CATEGORIES:Athletics
ATTACH;FMTTYPE=image/png:https://fortscott.edu/wp-content/uploads/2025/09/Womens-Basketball.png
END:VEVENT
END:VCALENDAR