BEGIN:VCALENDAR
VERSION:2.0
PRODID:-//Fort Scott Community College - ECPv6.15.18//NONSGML v1.0//EN
CALSCALE:GREGORIAN
METHOD:PUBLISH
X-WR-CALNAME:Fort Scott Community College
X-ORIGINAL-URL:https://fortscott.edu
X-WR-CALDESC:Events for Fort Scott Community College
REFRESH-INTERVAL;VALUE=DURATION:PT1H
X-Robots-Tag:noindex
X-PUBLISHED-TTL:PT1H
BEGIN:VTIMEZONE
TZID:America/Chicago
BEGIN:DAYLIGHT
TZOFFSETFROM:-0600
TZOFFSETTO:-0500
TZNAME:CDT
DTSTART:20240310T080000
END:DAYLIGHT
BEGIN:STANDARD
TZOFFSETFROM:-0500
TZOFFSETTO:-0600
TZNAME:CST
DTSTART:20241103T070000
END:STANDARD
BEGIN:DAYLIGHT
TZOFFSETFROM:-0600
TZOFFSETTO:-0500
TZNAME:CDT
DTSTART:20250309T080000
END:DAYLIGHT
BEGIN:STANDARD
TZOFFSETFROM:-0500
TZOFFSETTO:-0600
TZNAME:CST
DTSTART:20251102T070000
END:STANDARD
BEGIN:DAYLIGHT
TZOFFSETFROM:-0600
TZOFFSETTO:-0500
TZNAME:CDT
DTSTART:20260308T080000
END:DAYLIGHT
BEGIN:STANDARD
TZOFFSETFROM:-0500
TZOFFSETTO:-0600
TZNAME:CST
DTSTART:20261101T070000
END:STANDARD
BEGIN:DAYLIGHT
TZOFFSETFROM:-0600
TZOFFSETTO:-0500
TZNAME:CDT
DTSTART:20270314T080000
END:DAYLIGHT
BEGIN:STANDARD
TZOFFSETFROM:-0500
TZOFFSETTO:-0600
TZNAME:CST
DTSTART:20271107T070000
END:STANDARD
END:VTIMEZONE
BEGIN:VEVENT
DTSTART;TZID=America/Chicago:20260228T150000
DTEND;TZID=America/Chicago:20260228T150000
DTSTAMP:20260422T072627
CREATED:20250917T180157Z
LAST-MODIFIED:20250917T180202Z
UID:10002866-1772290800-1772290800@fortscott.edu
SUMMARY:Men's Basketball @ Labette
DESCRIPTION:
URL:https://fortscott.edu/event/mens-basketball-labette/
CATEGORIES:Athletics
ATTACH;FMTTYPE=image/png:https://fortscott.edu/wp-content/uploads/2024/01/Mens-Basketball.png
END:VEVENT
BEGIN:VEVENT
DTSTART;TZID=America/Chicago:20260225T193000
DTEND;TZID=America/Chicago:20260225T193000
DTSTAMP:20260422T072627
CREATED:20250917T180012Z
LAST-MODIFIED:20250917T180018Z
UID:10002865-1772047800-1772047800@fortscott.edu
SUMMARY:Men's Basketball vs. KCKCC
DESCRIPTION:
URL:https://fortscott.edu/event/mens-basketball-vs-kckcc/
LOCATION:Arnold Arena\, 2108 South Horton Street\, Fort Scott\, KS\, 66701\, United States
CATEGORIES:Athletics
ATTACH;FMTTYPE=image/png:https://fortscott.edu/wp-content/uploads/2024/01/Mens-Basketball.png
END:VEVENT
BEGIN:VEVENT
DTSTART;TZID=America/Chicago:20260221T150000
DTEND;TZID=America/Chicago:20260221T150000
DTSTAMP:20260422T072627
CREATED:20250917T175846Z
LAST-MODIFIED:20260209T222336Z
UID:10002864-1771686000-1771686000@fortscott.edu
SUMMARY:Men's Basketball vs. Highland CC
DESCRIPTION:
URL:https://fortscott.edu/event/mens-basketball-vs-highland-cc/
LOCATION:Arnold Arena\, 2108 South Horton Street\, Fort Scott\, KS\, 66701\, United States
CATEGORIES:Athletics
ATTACH;FMTTYPE=image/png:https://fortscott.edu/wp-content/uploads/2024/01/Mens-Basketball.png
END:VEVENT
BEGIN:VEVENT
DTSTART;TZID=America/Chicago:20260218T193000
DTEND;TZID=America/Chicago:20260218T193000
DTSTAMP:20260422T072627
CREATED:20250917T175706Z
LAST-MODIFIED:20250917T175711Z
UID:10002863-1771443000-1771443000@fortscott.edu
SUMMARY:Men's Basketball @ Johnson County
DESCRIPTION:
URL:https://fortscott.edu/event/mens-basketball-johnson-county-2/
CATEGORIES:Athletics
ATTACH;FMTTYPE=image/png:https://fortscott.edu/wp-content/uploads/2024/01/Mens-Basketball.png
END:VEVENT
BEGIN:VEVENT
DTSTART;TZID=America/Chicago:20260214T160000
DTEND;TZID=America/Chicago:20260214T160000
DTSTAMP:20260422T072627
CREATED:20251103T151006Z
LAST-MODIFIED:20251103T151010Z
UID:10002932-1771084800-1771084800@fortscott.edu
SUMMARY:Men's Basketball @ Allen County
DESCRIPTION:
URL:https://fortscott.edu/event/mens-basketball-allen-county-2/
CATEGORIES:Athletics
ATTACH;FMTTYPE=image/png:https://fortscott.edu/wp-content/uploads/2024/01/Mens-Basketball.png
END:VEVENT
BEGIN:VEVENT
DTSTART;TZID=America/Chicago:20260211T193000
DTEND;TZID=America/Chicago:20260211T193000
DTSTAMP:20260422T072627
CREATED:20250917T175315Z
LAST-MODIFIED:20250917T175322Z
UID:10002861-1770838200-1770838200@fortscott.edu
SUMMARY:Men's Basketball vs. Neosho County
DESCRIPTION:
URL:https://fortscott.edu/event/mens-basketball-vs-neosho-county/
LOCATION:Arnold Arena\, 2108 South Horton Street\, Fort Scott\, KS\, 66701\, United States
CATEGORIES:Athletics
ATTACH;FMTTYPE=image/png:https://fortscott.edu/wp-content/uploads/2024/01/Mens-Basketball.png
END:VEVENT
BEGIN:VEVENT
DTSTART;TZID=America/Chicago:20260204T193000
DTEND;TZID=America/Chicago:20260204T193000
DTSTAMP:20260422T072627
CREATED:20250917T175118Z
LAST-MODIFIED:20250917T175123Z
UID:10002860-1770233400-1770233400@fortscott.edu
SUMMARY:Men's Basketball vs. Labette
DESCRIPTION:
URL:https://fortscott.edu/event/mens-basketball-vs-labette/
LOCATION:Arnold Arena\, 2108 South Horton Street\, Fort Scott\, KS\, 66701\, United States
CATEGORIES:Athletics
ATTACH;FMTTYPE=image/png:https://fortscott.edu/wp-content/uploads/2024/01/Mens-Basketball.png
END:VEVENT
BEGIN:VEVENT
DTSTART;TZID=America/Chicago:20260131T150000
DTEND;TZID=America/Chicago:20260131T150000
DTSTAMP:20260422T072627
CREATED:20250917T174858Z
LAST-MODIFIED:20250917T174926Z
UID:10002859-1769871600-1769871600@fortscott.edu
SUMMARY:Men's Basketball @ KCKCC
DESCRIPTION:
URL:https://fortscott.edu/event/mens-basketball-kckcc/
CATEGORIES:Athletics
ATTACH;FMTTYPE=image/png:https://fortscott.edu/wp-content/uploads/2024/01/Mens-Basketball.png
END:VEVENT
BEGIN:VEVENT
DTSTART;TZID=America/Chicago:20260128T193000
DTEND;TZID=America/Chicago:20260128T193000
DTSTAMP:20260422T072627
CREATED:20250917T174728Z
LAST-MODIFIED:20250917T174733Z
UID:10002858-1769628600-1769628600@fortscott.edu
SUMMARY:Men's Basketball @ Highland CC
DESCRIPTION:
URL:https://fortscott.edu/event/mens-basketball-highland-cc/
CATEGORIES:Athletics
ATTACH;FMTTYPE=image/png:https://fortscott.edu/wp-content/uploads/2024/01/Mens-Basketball.png
END:VEVENT
BEGIN:VEVENT
DTSTART;TZID=America/Chicago:20260126T193000
DTEND;TZID=America/Chicago:20260126T193000
DTSTAMP:20260422T072627
CREATED:20250917T174441Z
LAST-MODIFIED:20260123T165746Z
UID:10002857-1769455800-1769455800@fortscott.edu
SUMMARY:Men's Basketball vs. Johnson County
DESCRIPTION:
URL:https://fortscott.edu/event/mens-basketball-vs-johnson-county/
LOCATION:Arnold Arena\, 2108 South Horton Street\, Fort Scott\, KS\, 66701\, United States
CATEGORIES:Athletics
ATTACH;FMTTYPE=image/png:https://fortscott.edu/wp-content/uploads/2024/01/Mens-Basketball.png
END:VEVENT
BEGIN:VEVENT
DTSTART;TZID=America/Chicago:20260121T193000
DTEND;TZID=America/Chicago:20260121T193000
DTSTAMP:20260422T072627
CREATED:20250917T174244Z
LAST-MODIFIED:20250917T174248Z
UID:10002856-1769023800-1769023800@fortscott.edu
SUMMARY:Men's Basketball vs. Allen County
DESCRIPTION:
URL:https://fortscott.edu/event/mens-basketball-vs-allen-county/
LOCATION:Arnold Arena\, 2108 South Horton Street\, Fort Scott\, KS\, 66701\, United States
CATEGORIES:Athletics
ATTACH;FMTTYPE=image/png:https://fortscott.edu/wp-content/uploads/2024/01/Mens-Basketball.png
END:VEVENT
BEGIN:VEVENT
DTSTART;TZID=America/Chicago:20260117T150000
DTEND;TZID=America/Chicago:20260117T150000
DTSTAMP:20260422T072627
CREATED:20250917T174033Z
LAST-MODIFIED:20250917T174038Z
UID:10002855-1768662000-1768662000@fortscott.edu
SUMMARY:Men's Basketball @ Neosho County
DESCRIPTION:
URL:https://fortscott.edu/event/mens-basketball-neosho-county-2/
CATEGORIES:Athletics
ATTACH;FMTTYPE=image/png:https://fortscott.edu/wp-content/uploads/2024/01/Mens-Basketball.png
END:VEVENT
BEGIN:VEVENT
DTSTART;TZID=America/Chicago:20260112T070000
DTEND;TZID=America/Chicago:20260112T070000
DTSTAMP:20260422T072627
CREATED:20251103T150629Z
LAST-MODIFIED:20251103T150632Z
UID:10002931-1768201200-1768201200@fortscott.edu
SUMMARY:Men's Basketball vs. Metropolitan CC
DESCRIPTION:
URL:https://fortscott.edu/event/mens-basketball-vs-metropolitan-cc/
LOCATION:Arnold Arena\, 2108 South Horton Street\, Fort Scott\, KS\, 66701\, United States
CATEGORIES:Athletics
ATTACH;FMTTYPE=image/png:https://fortscott.edu/wp-content/uploads/2024/01/Mens-Basketball.png
END:VEVENT
BEGIN:VEVENT
DTSTART;TZID=America/Chicago:20251206T150000
DTEND;TZID=America/Chicago:20251206T150000
DTSTAMP:20260422T072627
CREATED:20250917T173718Z
LAST-MODIFIED:20250917T173722Z
UID:10002854-1765033200-1765033200@fortscott.edu
SUMMARY:Men's Basketball @ North Central Missouri College
DESCRIPTION:
URL:https://fortscott.edu/event/mens-basketball-north-central-missouri-college/
CATEGORIES:Athletics
ATTACH;FMTTYPE=image/png:https://fortscott.edu/wp-content/uploads/2024/01/Mens-Basketball.png
END:VEVENT
BEGIN:VEVENT
DTSTART;VALUE=DATE:20251205
DTEND;VALUE=DATE:20251206
DTSTAMP:20260422T072627
CREATED:20250917T173302Z
LAST-MODIFIED:20250917T173308Z
UID:10002852-1764892800-1764979199@fortscott.edu
SUMMARY:Men's Basketball @ NCMC Classic\, Trenton\, MO
DESCRIPTION:Game time TBA
URL:https://fortscott.edu/event/mens-basketball-ncmc-classic-trenton-mo/
CATEGORIES:Athletics
ATTACH;FMTTYPE=image/png:https://fortscott.edu/wp-content/uploads/2024/01/Mens-Basketball.png
END:VEVENT
BEGIN:VEVENT
DTSTART;TZID=America/Chicago:20251201T193000
DTEND;TZID=America/Chicago:20251201T193000
DTSTAMP:20260422T072627
CREATED:20250917T173454Z
LAST-MODIFIED:20250917T173534Z
UID:10002853-1764617400-1764617400@fortscott.edu
SUMMARY:Men's Basketball vs. Kansas Christian College JV
DESCRIPTION:
URL:https://fortscott.edu/event/mens-basketball-vs-kansas-christian-college-jv/
LOCATION:Arnold Arena\, 2108 South Horton Street\, Fort Scott\, KS\, 66701\, United States
CATEGORIES:Athletics
ATTACH;FMTTYPE=image/png:https://fortscott.edu/wp-content/uploads/2024/01/Mens-Basketball.png
END:VEVENT
BEGIN:VEVENT
DTSTART;TZID=America/Chicago:20251129T193000
DTEND;TZID=America/Chicago:20251129T193000
DTSTAMP:20260422T072627
CREATED:20250917T173015Z
LAST-MODIFIED:20250917T173019Z
UID:10002851-1764444600-1764444600@fortscott.edu
SUMMARY:Men's Basketball @ Shorter College
DESCRIPTION:
URL:https://fortscott.edu/event/mens-basketball-shorter-college-2/
CATEGORIES:Athletics
ATTACH;FMTTYPE=image/png:https://fortscott.edu/wp-content/uploads/2024/01/Mens-Basketball.png
END:VEVENT
BEGIN:VEVENT
DTSTART;TZID=America/Chicago:20251122T000000
DTEND;TZID=America/Chicago:20251122T235959
DTSTAMP:20260422T072627
CREATED:20250917T172817Z
LAST-MODIFIED:20251103T150330Z
UID:10002850-1763769600-1763855999@fortscott.edu
SUMMARY:Men's Basketball vs. Palm Beach State College
DESCRIPTION:
URL:https://fortscott.edu/event/mens-basketball-vs-palm-beach-state-college/
LOCATION:Arnold Arena\, 2108 South Horton Street\, Fort Scott\, KS\, 66701\, United States
CATEGORIES:Athletics
ATTACH;FMTTYPE=image/png:https://fortscott.edu/wp-content/uploads/2024/01/Mens-Basketball.png
END:VEVENT
BEGIN:VEVENT
DTSTART;TZID=America/Chicago:20251119T193000
DTEND;TZID=America/Chicago:20251119T193000
DTSTAMP:20260422T072627
CREATED:20251103T150215Z
LAST-MODIFIED:20251103T150219Z
UID:10002930-1763580600-1763580600@fortscott.edu
SUMMARY:Men's Basketball @ State Fair CC
DESCRIPTION:
URL:https://fortscott.edu/event/mens-basketball-state-fair-cc/
CATEGORIES:Athletics
ATTACH;FMTTYPE=image/png:https://fortscott.edu/wp-content/uploads/2024/01/Mens-Basketball.png
END:VEVENT
BEGIN:VEVENT
DTSTART;TZID=America/Chicago:20251115T140000
DTEND;TZID=America/Chicago:20251115T140000
DTSTAMP:20260422T072627
CREATED:20250917T155340Z
LAST-MODIFIED:20250917T165417Z
UID:10002842-1763215200-1763215200@fortscott.edu
SUMMARY:Men's Basketball @ North Arkansas College
DESCRIPTION:
URL:https://fortscott.edu/event/mens-basketball-north-arkansas-college-2/
CATEGORIES:Athletics
ATTACH;FMTTYPE=image/png:https://fortscott.edu/wp-content/uploads/2024/01/Mens-Basketball.png
END:VEVENT
BEGIN:VEVENT
DTSTART;TZID=America/Chicago:20251114T173000
DTEND;TZID=America/Chicago:20251114T173000
DTSTAMP:20260422T072627
CREATED:20250917T155050Z
LAST-MODIFIED:20251114T161245Z
UID:10002843-1763141400-1763141400@fortscott.edu
SUMMARY:Men's Basketball @ Redlands CC
DESCRIPTION:
URL:https://fortscott.edu/event/mens-basketball-vs-redlands-cc/
CATEGORIES:Athletics
ATTACH;FMTTYPE=image/png:https://fortscott.edu/wp-content/uploads/2024/01/Mens-Basketball.png
END:VEVENT
BEGIN:VEVENT
DTSTART;TZID=America/Chicago:20251110T190000
DTEND;TZID=America/Chicago:20251110T190000
DTSTAMP:20260422T072627
CREATED:20251103T145935Z
LAST-MODIFIED:20251103T145938Z
UID:10002929-1762801200-1762801200@fortscott.edu
SUMMARY:Men's Basketball @ Metropolitan CC
DESCRIPTION:
URL:https://fortscott.edu/event/mens-basketball-metropolitan-cc/
CATEGORIES:Athletics
ATTACH;FMTTYPE=image/png:https://fortscott.edu/wp-content/uploads/2024/01/Mens-Basketball.png
END:VEVENT
BEGIN:VEVENT
DTSTART;TZID=America/Chicago:20251108T150000
DTEND;TZID=America/Chicago:20251108T150000
DTSTAMP:20260422T072627
CREATED:20251103T145706Z
LAST-MODIFIED:20251108T173158Z
UID:10002928-1762614000-1762614000@fortscott.edu
SUMMARY:Men's Basketball vs. MU JV
DESCRIPTION:
URL:https://fortscott.edu/event/mens-basketball-vs-mu-jv/
LOCATION:Arnold Arena\, 2108 South Horton Street\, Fort Scott\, KS\, 66701\, United States
CATEGORIES:Athletics
ATTACH;FMTTYPE=image/png:https://fortscott.edu/wp-content/uploads/2024/01/Mens-Basketball.png
END:VEVENT
BEGIN:VEVENT
DTSTART;TZID=America/Chicago:20251106T193000
DTEND;TZID=America/Chicago:20251106T193000
DTSTAMP:20260422T072627
CREATED:20250917T154750Z
LAST-MODIFIED:20250917T165956Z
UID:10002844-1762457400-1762457400@fortscott.edu
SUMMARY:Men's Basketball vs. Avila University JV
DESCRIPTION:
URL:https://fortscott.edu/event/mens-basketball-vs-avila-university-jv/
LOCATION:Arnold Arena\, 2108 South Horton Street\, Fort Scott\, KS\, 66701\, United States
CATEGORIES:Athletics
ATTACH;FMTTYPE=image/png:https://fortscott.edu/wp-content/uploads/2024/01/Mens-Basketball.png
END:VEVENT
BEGIN:VEVENT
DTSTART;TZID=America/Chicago:20251104T193000
DTEND;TZID=America/Chicago:20251104T193000
DTSTAMP:20260422T072627
CREATED:20250917T152726Z
LAST-MODIFIED:20250917T170105Z
UID:10002845-1762284600-1762284600@fortscott.edu
SUMMARY:Men's Basketball @ Coffeyville CC
DESCRIPTION:
URL:https://fortscott.edu/event/mens-basketball-coffeyville-cc-3/
CATEGORIES:Athletics
ATTACH;FMTTYPE=image/png:https://fortscott.edu/wp-content/uploads/2024/01/Mens-Basketball.png
END:VEVENT
BEGIN:VEVENT
DTSTART;TZID=America/Chicago:20251101T150000
DTEND;TZID=America/Chicago:20251101T150000
DTSTAMP:20260422T072627
CREATED:20250917T152337Z
LAST-MODIFIED:20250917T170158Z
UID:10002841-1762009200-1762009200@fortscott.edu
SUMMARY:Men's Basketball @ Western Iowa Tech
DESCRIPTION:
URL:https://fortscott.edu/event/mens-basketball-western-iowa-tech/
CATEGORIES:Athletics
ATTACH;FMTTYPE=image/png:https://fortscott.edu/wp-content/uploads/2024/01/Mens-Basketball.png
END:VEVENT
BEGIN:VEVENT
DTSTART;TZID=America/Chicago:20251031T193000
DTEND;TZID=America/Chicago:20251031T193000
DTSTAMP:20260422T072627
CREATED:20250917T152140Z
LAST-MODIFIED:20250917T170246Z
UID:10002846-1761939000-1761939000@fortscott.edu
SUMMARY:Men's Basketball @ Iowa Western CC
DESCRIPTION:
URL:https://fortscott.edu/event/mens-basketball-iowa-western-cc/
CATEGORIES:Athletics
ATTACH;FMTTYPE=image/png:https://fortscott.edu/wp-content/uploads/2024/01/Mens-Basketball.png
END:VEVENT
BEGIN:VEVENT
DTSTART;TZID=America/Chicago:20251017T131500
DTEND;TZID=America/Chicago:20251017T131500
DTSTAMP:20260422T072627
CREATED:20250917T151912Z
LAST-MODIFIED:20250917T170308Z
UID:10002847-1760706900-1760706900@fortscott.edu
SUMMARY:Men's Basketball vs. Southwestern CC
DESCRIPTION:
URL:https://fortscott.edu/event/mens-basketball-vs-southwestern-cc/
LOCATION:Arnold Arena\, 2108 South Horton Street\, Fort Scott\, KS\, 66701\, United States
CATEGORIES:Athletics
ATTACH;FMTTYPE=image/png:https://fortscott.edu/wp-content/uploads/2024/01/Mens-Basketball.png
END:VEVENT
BEGIN:VEVENT
DTSTART;VALUE=DATE:20251017
DTEND;VALUE=DATE:20251018
DTSTAMP:20260422T072627
CREATED:20250917T151551Z
LAST-MODIFIED:20250917T170346Z
UID:10002840-1760659200-1760745599@fortscott.edu
SUMMARY:Men's Basketball vs MOKAN JUCO Jamboree \, Overland Park\, KS
DESCRIPTION:Game time TBA
URL:https://fortscott.edu/event/mens-basketball-vs-mokan-juco-jamboree-overland-park-ks/
LOCATION:Arnold Arena\, 2108 South Horton Street\, Fort Scott\, KS\, 66701\, United States
CATEGORIES:Athletics
ATTACH;FMTTYPE=image/png:https://fortscott.edu/wp-content/uploads/2024/01/Mens-Basketball.png
END:VEVENT
BEGIN:VEVENT
DTSTART;TZID=America/Chicago:20251010T133000
DTEND;TZID=America/Chicago:20251010T133000
DTSTAMP:20260422T072627
CREATED:20250917T151237Z
LAST-MODIFIED:20250917T170418Z
UID:10002848-1760103000-1760103000@fortscott.edu
SUMMARY:Men's Basketball vs State Fair CC
DESCRIPTION:
URL:https://fortscott.edu/event/mens-basketball-vs-state-fair-cc/
LOCATION:Arnold Arena\, 2108 South Horton Street\, Fort Scott\, KS\, 66701\, United States
CATEGORIES:Athletics
ATTACH;FMTTYPE=image/png:https://fortscott.edu/wp-content/uploads/2024/01/Mens-Basketball.png
END:VEVENT
END:VCALENDAR