BEGIN:VCALENDAR
VERSION:2.0
PRODID:-//Fort Scott Community College - ECPv6.15.18//NONSGML v1.0//EN
CALSCALE:GREGORIAN
METHOD:PUBLISH
X-ORIGINAL-URL:https://fortscott.edu
X-WR-CALDESC:Events for Fort Scott Community College
REFRESH-INTERVAL;VALUE=DURATION:PT1H
X-Robots-Tag:noindex
X-PUBLISHED-TTL:PT1H
BEGIN:VTIMEZONE
TZID:America/Chicago
BEGIN:DAYLIGHT
TZOFFSETFROM:-0600
TZOFFSETTO:-0500
TZNAME:CDT
DTSTART:20240310T080000
END:DAYLIGHT
BEGIN:STANDARD
TZOFFSETFROM:-0500
TZOFFSETTO:-0600
TZNAME:CST
DTSTART:20241103T070000
END:STANDARD
BEGIN:DAYLIGHT
TZOFFSETFROM:-0600
TZOFFSETTO:-0500
TZNAME:CDT
DTSTART:20250309T080000
END:DAYLIGHT
BEGIN:STANDARD
TZOFFSETFROM:-0500
TZOFFSETTO:-0600
TZNAME:CST
DTSTART:20251102T070000
END:STANDARD
BEGIN:DAYLIGHT
TZOFFSETFROM:-0600
TZOFFSETTO:-0500
TZNAME:CDT
DTSTART:20260308T080000
END:DAYLIGHT
BEGIN:STANDARD
TZOFFSETFROM:-0500
TZOFFSETTO:-0600
TZNAME:CST
DTSTART:20261101T070000
END:STANDARD
END:VTIMEZONE
BEGIN:VEVENT
DTSTART;TZID=America/Chicago:20250820T193000
DTEND;TZID=America/Chicago:20250820T213000
DTSTAMP:20260422T234018
CREATED:20250807T191010Z
LAST-MODIFIED:20250807T191015Z
UID:10002765-1755718200-1755725400@fortscott.edu
SUMMARY:Movie Night
DESCRIPTION:Fort Cinema: Doors Open at 7:00 PM \nShowing: Freakier Friday and Naked Gun \nFree transportation: Shuttle will leave main parking lot at 7:00 PM.
URL:https://fortscott.edu/event/movie-night/
LOCATION:Fort Cinema\, 224 W 18th St.\, Fort Scott\, KS\, 66701\, United States
CATEGORIES:Student Life
END:VEVENT
END:VCALENDAR