BEGIN:VCALENDAR
VERSION:2.0
PRODID:-//Fort Scott Community College - ECPv6.15.18//NONSGML v1.0//EN
CALSCALE:GREGORIAN
METHOD:PUBLISH
X-ORIGINAL-URL:https://fortscott.edu
X-WR-CALDESC:Events for Fort Scott Community College
REFRESH-INTERVAL;VALUE=DURATION:PT1H
X-Robots-Tag:noindex
X-PUBLISHED-TTL:PT1H
BEGIN:VTIMEZONE
TZID:America/Chicago
BEGIN:DAYLIGHT
TZOFFSETFROM:-0600
TZOFFSETTO:-0500
TZNAME:CDT
DTSTART:20250309T080000
END:DAYLIGHT
BEGIN:STANDARD
TZOFFSETFROM:-0500
TZOFFSETTO:-0600
TZNAME:CST
DTSTART:20251102T070000
END:STANDARD
BEGIN:DAYLIGHT
TZOFFSETFROM:-0600
TZOFFSETTO:-0500
TZNAME:CDT
DTSTART:20260308T080000
END:DAYLIGHT
BEGIN:STANDARD
TZOFFSETFROM:-0500
TZOFFSETTO:-0600
TZNAME:CST
DTSTART:20261101T070000
END:STANDARD
BEGIN:DAYLIGHT
TZOFFSETFROM:-0600
TZOFFSETTO:-0500
TZNAME:CDT
DTSTART:20270314T080000
END:DAYLIGHT
BEGIN:STANDARD
TZOFFSETFROM:-0500
TZOFFSETTO:-0600
TZNAME:CST
DTSTART:20271107T070000
END:STANDARD
END:VTIMEZONE
BEGIN:VEVENT
DTSTART;TZID=America/Chicago:20260216T083000
DTEND;TZID=America/Chicago:20260216T153000
DTSTAMP:20260422T054726
CREATED:20260209T215618Z
LAST-MODIFIED:20260209T215618Z
UID:10003032-1771230600-1771255800@fortscott.edu
SUMMARY:Boba Social
DESCRIPTION:Start Court warming week with a pop — and we mean that literally! Come grab a FREE boba drink and hang out with friends in between classes.
URL:https://fortscott.edu/event/boba-social/
LOCATION:Bailey Hall Student Union\, 2108 South Horton Street\, Fort Scott\, KS\, 66701\, United States
CATEGORIES:Students
ATTACH;FMTTYPE=image/jpeg:https://fortscott.edu/wp-content/uploads/2026/02/Boba-Social.jpg
END:VEVENT
BEGIN:VEVENT
DTSTART;TZID=America/Chicago:20260218T173000
DTEND;TZID=America/Chicago:20260218T213000
DTSTAMP:20260422T054726
CREATED:20260209T215835Z
LAST-MODIFIED:20260209T215835Z
UID:10003033-1771435800-1771450200@fortscott.edu
SUMMARY:Basketball Watch Party
DESCRIPTION:Join us as we stream the Greyhounds away game live. Come watch\, cheer\, play mini games\, and build the hype for our Court Warming Game.
URL:https://fortscott.edu/event/basketball-watch-party/
LOCATION:FSCC Dining Hall\, 2108 South Horton Street\, Fort Scott\, KS\, 66701\, United States
CATEGORIES:Students
ATTACH;FMTTYPE=image/jpeg:https://fortscott.edu/wp-content/uploads/2026/02/Basketball-Watch-Party.jpg
END:VEVENT
BEGIN:VEVENT
DTSTART;TZID=America/Chicago:20260219T200000
DTEND;TZID=America/Chicago:20260219T220000
DTSTAMP:20260422T054726
CREATED:20260209T220041Z
LAST-MODIFIED:20260209T220041Z
UID:10003034-1771531200-1771538400@fortscott.edu
SUMMARY:Greyhound Pop-Up Game Lounge
DESCRIPTION:Test your skills in pool\, ping pong\, and poker tournaments for a chance to win FSCC gear and prizes. Pool and ping pong are duos only\, so be sure to bring a teammate.
URL:https://fortscott.edu/event/greyhound-pop-up-game-lounge/
LOCATION:FSCC Dining Hall\, 2108 South Horton Street\, Fort Scott\, KS\, 66701\, United States
CATEGORIES:Students
ATTACH;FMTTYPE=image/jpeg:https://fortscott.edu/wp-content/uploads/2026/02/Greyhound-Pop-Up-Game.jpg
END:VEVENT
BEGIN:VEVENT
DTSTART;TZID=America/Chicago:20260221T130000
DTEND;TZID=America/Chicago:20260221T130000
DTSTAMP:20260422T054726
CREATED:20260209T220225Z
LAST-MODIFIED:20260209T220225Z
UID:10003035-1771678800-1771678800@fortscott.edu
SUMMARY:Court Warming Game – BLACK OUT THE ARENA
DESCRIPTION:Wear black to support the Greyhounds and participate in our Black Out the Arena theme. Students who wear black will be rewarded with free snacks while supplies last. Help us pack the arena as we face the Highland Scotties in this Court Warming Canine Clash.
URL:https://fortscott.edu/event/court-warming-game-black-out-the-arena/
LOCATION:Arnold Arena\, 2108 South Horton Street\, Fort Scott\, KS\, 66701\, United States
CATEGORIES:Students
END:VEVENT
END:VCALENDAR