BEGIN:VCALENDAR
VERSION:2.0
PRODID:-//Fort Scott Community College - ECPv6.15.18//NONSGML v1.0//EN
CALSCALE:GREGORIAN
METHOD:PUBLISH
X-WR-CALNAME:Fort Scott Community College
X-ORIGINAL-URL:https://fortscott.edu
X-WR-CALDESC:Events for Fort Scott Community College
REFRESH-INTERVAL;VALUE=DURATION:PT1H
X-Robots-Tag:noindex
X-PUBLISHED-TTL:PT1H
BEGIN:VTIMEZONE
TZID:America/Chicago
BEGIN:DAYLIGHT
TZOFFSETFROM:-0600
TZOFFSETTO:-0500
TZNAME:CDT
DTSTART:20250309T080000
END:DAYLIGHT
BEGIN:STANDARD
TZOFFSETFROM:-0500
TZOFFSETTO:-0600
TZNAME:CST
DTSTART:20251102T070000
END:STANDARD
BEGIN:DAYLIGHT
TZOFFSETFROM:-0600
TZOFFSETTO:-0500
TZNAME:CDT
DTSTART:20260308T080000
END:DAYLIGHT
BEGIN:STANDARD
TZOFFSETFROM:-0500
TZOFFSETTO:-0600
TZNAME:CST
DTSTART:20261101T070000
END:STANDARD
BEGIN:DAYLIGHT
TZOFFSETFROM:-0600
TZOFFSETTO:-0500
TZNAME:CDT
DTSTART:20270314T080000
END:DAYLIGHT
BEGIN:STANDARD
TZOFFSETFROM:-0500
TZOFFSETTO:-0600
TZNAME:CST
DTSTART:20271107T070000
END:STANDARD
END:VTIMEZONE
BEGIN:VEVENT
DTSTART;TZID=America/Chicago:20260506T183000
DTEND;TZID=America/Chicago:20260506T183000
DTSTAMP:20260422T171606
CREATED:20260421T215334Z
LAST-MODIFIED:20260421T215334Z
UID:10003251-1778092200-1778092200@fortscott.edu
SUMMARY:Laser Tag
DESCRIPTION:
URL:https://fortscott.edu/event/laser-tag/
LOCATION:Bailey Hall Student Union\, 2108 South Horton Street\, Fort Scott\, KS\, 66701\, United States
CATEGORIES:Student Life
ATTACH;FMTTYPE=image/png:https://fortscott.edu/wp-content/uploads/2026/04/Student-Life-Laser-Tag.png
END:VEVENT
BEGIN:VEVENT
DTSTART;TZID=America/Chicago:20260507T110000
DTEND;TZID=America/Chicago:20260507T133000
DTSTAMP:20260422T171606
CREATED:20260421T220016Z
LAST-MODIFIED:20260421T220016Z
UID:10003252-1778151600-1778160600@fortscott.edu
SUMMARY:Paws and Relax
DESCRIPTION:
URL:https://fortscott.edu/event/paws-and-relax/
LOCATION:Bailey Hall Lawn\, 2108 South Horton Street\, Fort Scott\, 66701\, United States
CATEGORIES:Student Life
ATTACH;FMTTYPE=image/png:https://fortscott.edu/wp-content/uploads/2026/04/Student-Life-Paws-and-RELAX.png
END:VEVENT
END:VCALENDAR