BEGIN:VCALENDAR
VERSION:2.0
PRODID:-//Fort Scott Community College - ECPv6.15.18//NONSGML v1.0//EN
CALSCALE:GREGORIAN
METHOD:PUBLISH
X-WR-CALNAME:Fort Scott Community College
X-ORIGINAL-URL:https://fortscott.edu
X-WR-CALDESC:Events for Fort Scott Community College
REFRESH-INTERVAL;VALUE=DURATION:PT1H
X-Robots-Tag:noindex
X-PUBLISHED-TTL:PT1H
BEGIN:VTIMEZONE
TZID:America/Chicago
BEGIN:DAYLIGHT
TZOFFSETFROM:-0600
TZOFFSETTO:-0500
TZNAME:CDT
DTSTART:20250309T080000
END:DAYLIGHT
BEGIN:STANDARD
TZOFFSETFROM:-0500
TZOFFSETTO:-0600
TZNAME:CST
DTSTART:20251102T070000
END:STANDARD
BEGIN:DAYLIGHT
TZOFFSETFROM:-0600
TZOFFSETTO:-0500
TZNAME:CDT
DTSTART:20260308T080000
END:DAYLIGHT
BEGIN:STANDARD
TZOFFSETFROM:-0500
TZOFFSETTO:-0600
TZNAME:CST
DTSTART:20261101T070000
END:STANDARD
BEGIN:DAYLIGHT
TZOFFSETFROM:-0600
TZOFFSETTO:-0500
TZNAME:CDT
DTSTART:20270314T080000
END:DAYLIGHT
BEGIN:STANDARD
TZOFFSETFROM:-0500
TZOFFSETTO:-0600
TZNAME:CST
DTSTART:20271107T070000
END:STANDARD
END:VTIMEZONE
BEGIN:VEVENT
DTSTART;TZID=America/Chicago:20260409T093000
DTEND;TZID=America/Chicago:20260409T153000
DTSTAMP:20260422T112344
CREATED:20260323T175440Z
LAST-MODIFIED:20260323T182707Z
UID:10003183-1775727000-1775748600@fortscott.edu
SUMMARY:Blood Drive
DESCRIPTION:The Student Nurse Organization is hosting their spring American Red Cross Blood Drive on Thursday\, April 9\, 2026 from 9:30-3:30 in the Ellis Fine Arts Center.  Please mark your calendar to donate! \nOne donation can save up to 3 lives!  Power Red donations accepted.  Please visit the RedCrossBlood.org website to schedule your appt\, or download the app today! Use code FSCC in app when signing up! \n 
URL:https://fortscott.edu/event/blood-drive-3/
LOCATION:Ellis Fine Arts Center\, 2108 South Horton Street\, Fort Scott\, KS\, 66701\, United States
CATEGORIES:Community
ATTACH;FMTTYPE=image/png:https://fortscott.edu/wp-content/uploads/2026/03/Blood-Drive.png
END:VEVENT
END:VCALENDAR