BEGIN:VCALENDAR
VERSION:2.0
PRODID:-//Fort Scott Community College - ECPv6.15.18//NONSGML v1.0//EN
CALSCALE:GREGORIAN
METHOD:PUBLISH
X-WR-CALNAME:Fort Scott Community College
X-ORIGINAL-URL:https://fortscott.edu
X-WR-CALDESC:Events for Fort Scott Community College
REFRESH-INTERVAL;VALUE=DURATION:PT1H
X-Robots-Tag:noindex
X-PUBLISHED-TTL:PT1H
BEGIN:VTIMEZONE
TZID:America/Chicago
BEGIN:DAYLIGHT
TZOFFSETFROM:-0600
TZOFFSETTO:-0500
TZNAME:CDT
DTSTART:20240310T080000
END:DAYLIGHT
BEGIN:STANDARD
TZOFFSETFROM:-0500
TZOFFSETTO:-0600
TZNAME:CST
DTSTART:20241103T070000
END:STANDARD
BEGIN:DAYLIGHT
TZOFFSETFROM:-0600
TZOFFSETTO:-0500
TZNAME:CDT
DTSTART:20250309T080000
END:DAYLIGHT
BEGIN:STANDARD
TZOFFSETFROM:-0500
TZOFFSETTO:-0600
TZNAME:CST
DTSTART:20251102T070000
END:STANDARD
BEGIN:DAYLIGHT
TZOFFSETFROM:-0600
TZOFFSETTO:-0500
TZNAME:CDT
DTSTART:20260308T080000
END:DAYLIGHT
BEGIN:STANDARD
TZOFFSETFROM:-0500
TZOFFSETTO:-0600
TZNAME:CST
DTSTART:20261101T070000
END:STANDARD
END:VTIMEZONE
BEGIN:VEVENT
DTSTART;TZID=America/Chicago:20251206T080000
DTEND;TZID=America/Chicago:20251206T080000
DTSTAMP:20260422T175443
CREATED:20251112T141516Z
LAST-MODIFIED:20251121T162037Z
UID:10002939-1765008000-1765008000@fortscott.edu
SUMMARY:Jolly Jog 5K
DESCRIPTION:Join the Global Greyhounds as they host the 1st Jolly Jog 5K as part of the Christmas on the Bricks!  All proceeds will benefit FSCC’s Global Greyhound Chapter.  The 5K will take place on Saturday\, December 6th beginning at 8:00 AM.  If you would like to participate\, click here and get signed up today!  If you would like to volunteer\, contact Fatimah Bader at fatimahb@fortscott.edu or Susie Arvidson at susiea@fortscott.edu. \nStill have questions\, contact Fatimah at her email or in the FSCC Library on Tuesdays and Thursdays.
URL:https://fortscott.edu/event/jolly-jog-5k/
LOCATION:KS
CATEGORIES:Community,Students
END:VEVENT
END:VCALENDAR