BEGIN:VCALENDAR
VERSION:2.0
PRODID:-//Fort Scott Community College - ECPv6.15.18//NONSGML v1.0//EN
CALSCALE:GREGORIAN
METHOD:PUBLISH
X-ORIGINAL-URL:https://fortscott.edu
X-WR-CALDESC:Events for Fort Scott Community College
REFRESH-INTERVAL;VALUE=DURATION:PT1H
X-Robots-Tag:noindex
X-PUBLISHED-TTL:PT1H
BEGIN:VTIMEZONE
TZID:America/Chicago
BEGIN:DAYLIGHT
TZOFFSETFROM:-0600
TZOFFSETTO:-0500
TZNAME:CDT
DTSTART:20250309T080000
END:DAYLIGHT
BEGIN:STANDARD
TZOFFSETFROM:-0500
TZOFFSETTO:-0600
TZNAME:CST
DTSTART:20251102T070000
END:STANDARD
BEGIN:DAYLIGHT
TZOFFSETFROM:-0600
TZOFFSETTO:-0500
TZNAME:CDT
DTSTART:20260308T080000
END:DAYLIGHT
BEGIN:STANDARD
TZOFFSETFROM:-0500
TZOFFSETTO:-0600
TZNAME:CST
DTSTART:20261101T070000
END:STANDARD
BEGIN:DAYLIGHT
TZOFFSETFROM:-0600
TZOFFSETTO:-0500
TZNAME:CDT
DTSTART:20270314T080000
END:DAYLIGHT
BEGIN:STANDARD
TZOFFSETFROM:-0500
TZOFFSETTO:-0600
TZNAME:CST
DTSTART:20271107T070000
END:STANDARD
END:VTIMEZONE
BEGIN:VEVENT
DTSTART;TZID=America/Chicago:20260331T130000
DTEND;TZID=America/Chicago:20260331T130000
DTSTAMP:20260422T081223
CREATED:20260306T162633Z
LAST-MODIFIED:20260306T162633Z
UID:10003141-1774962000-1774962000@fortscott.edu
SUMMARY:STEAM Club Meeting
DESCRIPTION:
URL:https://fortscott.edu/event/steam-club-meeting-13/2026-03-31/
LOCATION:Bailey Hall Conference Room
CATEGORIES:Student Organizations
ATTACH;FMTTYPE=image/png:https://fortscott.edu/wp-content/uploads/2026/03/STEAM-Club-Flyer-scaled.png
END:VEVENT
BEGIN:VEVENT
DTSTART;TZID=America/Chicago:20260331T130000
DTEND;TZID=America/Chicago:20260331T153000
DTSTAMP:20260422T081223
CREATED:20260213T161033Z
LAST-MODIFIED:20260213T161033Z
UID:10003068-1774962000-1774971000@fortscott.edu
SUMMARY:Baseball @ Crowder
DESCRIPTION:
URL:https://fortscott.edu/event/baseball-crowder/
CATEGORIES:Athletics
ATTACH;FMTTYPE=image/png:https://fortscott.edu/wp-content/uploads/2024/01/Baseball.png
END:VEVENT
BEGIN:VEVENT
DTSTART;TZID=America/Chicago:20260331T160000
DTEND;TZID=America/Chicago:20260331T170000
DTSTAMP:20260422T081223
CREATED:20260304T183805Z
LAST-MODIFIED:20260304T183805Z
UID:10003124-1774972800-1774976400@fortscott.edu
SUMMARY:PTK Induction Ceremony
DESCRIPTION:
URL:https://fortscott.edu/event/ptk-induction-ceremony-3/
LOCATION:Ellis Theater\, 2108 South Horton Street\, Fort Scott\, KS\, 66701\, United States
CATEGORIES:Academics,Phi Theta Kappa
ATTACH;FMTTYPE=image/png:https://fortscott.edu/wp-content/uploads/2024/10/PTK-Induction-Ceremony.png
END:VEVENT
END:VCALENDAR